Workbook

Sheet Rechnung Krankenkasse
A1: RECHNUNG
A3: Personalien Kunden/in | F3: Name und Adresse der Versicherung
A4: Name
A5: Vorname
A6: Adresse
A7: PLZ/Ort
A8: Telefon
A9: Geburtsdatum
A10: Versicherten-Nr.
A12: Verordnender Arzt/Ärztin | F12: Pflegefachfrau/Pflegefachmann
A13: Name | F13: Name
A14: Vorname | F14: Vorname
A15: Adresse | F15: Adresse
A16: PLZ/Ort | F16: PLZ/Ort
A17: Telefon | F17: Telefon
A18: ZSR-Nummer | F18: ZSR-Nr.:
A20: Es handelt sich um: o Unfall o Krankheit o Invalidität o Prävention + Mutterschaft
A21: Die Behandlung ist: * abgeschlossen o muss weitergeführt werden
A23: Kalendarium (Anzahl erbrachte Stunden in den beiden Vormonaten: ........... Std.)
A25: Ausgeführte Leistungen nach KLV 7 von | F25: bis
A27: Datum | B27: Leistung | E27: Dauer Minuten | F27: Datum | G27: Leistung | J27: Dauer Minuten
B28: Tarif a | G28: Tarif b
G40: Total Tarif b | J40: =SUM(J28:J39) -> 0
B41: Total Tarif a | E41: =SUM(E28:E40) -> 0 | G41: Total Tarif a,b | J41: =SUM(E41+J40) -> 0
A42: Material gemäss MiGeL | D42: Positionsnummer | F42: Material gemäss MiGeL | I42: Positionsnummer
A47: Gesamttotal Tarif a in Minuten .......... | E47: =E41 -> 0 | G47: CHF | H47: =E47*12.79/10 -> 0
A48: Gesamttotal Tarif b in Minuten .......... | E48: =J40 -> 0 | G48: CHF | H48: =E48*10.88/10 -> 0
A49: Gesamttotal KLV 7 in Minuten .......... | E49: =SUM(E47:E48) -> 0 | G49: CHF
A50: Gesamttotal Material gemäss MiGeL | G50: CHF
G51: Rechnungsbetrag
A53: Rechnungsdatum: | C53: 41275 | G53: CHF | H53: =SUM(H47:H48) -> 0
I54: Version Jan 13

Sheet Gemeinde einfach
A4: Pflegefachfrau HF | B4: ='Rechnung Krankenkasse'!G13&" "&'Rechnung Krankenkasse'!G14
B5: ='Rechnung Krankenkasse'!G15 -> 0
B6: ='Rechnung Krankenkasse'!G16 -> 0
A7: ZSR-Nr.: | B7: ='Rechnung Krankenkasse'!G18 -> 0 | E7: Politische Gemeinde
E9: Finanzen
A17: RECHNUNG Restfinanzierung nach KLV 7 | F17: Ort, Datum
A19: Gemeindebeitrag für: | C19: Dauer: | D19: Zeitaufwand | E19: Betrag/Std. | F19: Betrag in CHF:
A20: Wochenbettbetreuung | C20: in Tagen | D20: (in Std.):
A21: ohne Selbstbeteiligung
D22: 5.17 | E22: 43.75 | F22: =D22*E22 -> 226.1875
A28: Beilagen:
A30: 1 ärztliche Verordnung
E34: Total in CHF | F34: =SUM(F22:F31) -> 226.1875
A39: Zahlungskonditionen: | C39: 30 Tage netto
A44: Bei Fragen wenden Sie sich bitte an Frau Tel. 079/

Sheet Gemeinde ABC
A4: Pflegefachfrau HF | C4: ='Rechnung Krankenkasse'!G13&" "&'Rechnung Krankenkasse'!G14
C5: ='Rechnung Krankenkasse'!C6 -> 0
C6: ='Rechnung Krankenkasse'!C7 -> 0
A7: ZSR-Nr.: | C7: ='Rechnung Krankenkasse'!G18 -> 0 | H7: Politische Gemeinde
H9: Finanzen
A17: RECHNUNG Restfinanzierung nach KLV 7 | I17: Ort, Datum
A19: Gemeindebeitrag für: | C19: Dauer: | D19: Min. | E19: Min. | F19: CHF | G19: CHF | H19: Total | I19: Total CHF
A20: Wochenbettbetreuung | C20: in Tagen | D20: A | E20: B | F20: A | G20: B | H20: Min. | I20: (A+B)
A21: ohne Selbstbeteiligung
A22: ='Rechnung Krankenkasse'!B4 -> 0 | C22: 2 | D22: ='Rechnung Krankenkasse'!E41 -> 0 | E22: ='Rechnung Krankenkasse'!J40 -> 0 | F22: =D22*4.5/10 -> 0 | G22: =E22*5.66/10 -> 0 | H22: =SUM(D22:E22) -> 0 | I22: =SUM(F22:G22) -> 0
A23: ='Rechnung Krankenkasse'!B5 -> 0
A24: ='Rechnung Krankenkasse'!B6 -> 0
A25: ='Rechnung Krankenkasse'!B7 -> 0
A28: Beilagen:
A30: 1 ärztliche Verordnung
H34: Total in CHF | I34: =SUM(I22:I31) -> 0
A39: Zahlungskonditionen: | C39: 30 Tage netto
A44: Bei Fragen wenden Sie sich bitte an Frau Sandra Gattiker Tel. 079/660 25 14

Sheet Spitaldaten
A2: Spitaldaten
A4: Mutter: | B4: Name | H4: Kind: | I4: Name
B5: Austrittsdatum | I5: SSW
B6: Spital | I6: Geb.ort
B7: Grav. | I7: Geb.datum
B8: Para | I8: Zeit
B9: Geb. Art | I9: Lage
B10: Blutverlust | I10: Mekonium
B11: Blutgruppe | I11: Urin
B12: Anti D | I12: BG
B13: Strepto B | I13: Coombs
B14: Damm | E14: Lochien | I14: Vit. K 1: | K14: Vit. K 2: | M14: Vit. K 3:
B15: Uterus | I15: Vit. D
B16: Serologien | I16: Bilirubin
B17: Medis | I17: GT
B18: BD | I18: Impfungen
B19: Puls | I19: KA Status:
B20: Allergien | I20: Ernährung
B21: Tempi | I21: Geburts-gewicht | L21: Austritts- gewicht
B22: GVB Kurs | D22: ja/nein | I22: Nabel ph
B23: mit stillen | D23: ja/nein | I23: Apgar
B24: Austritts- | E24: Brust | I24: Wünsche WB
B25: befund: | E25: Mamillen | I25: Wünsche Stillzeit
B26: Sonstiges | I26: Sonstiges
A29: Anamnese:

Sheet Mutter+Kind
A1: Mutter Name: | C1: ='Rechnung Krankenkasse'!C4&" "&'Rechnung Krankenkasse'!C5 | H1: Wochenbettverlauf Mutter | O1: Mutter Name: | Q1: ='Rechnung Krankenkasse'!C4&" "&'Rechnung Krankenkasse'!C5 | V1: Wochenbettverlauf Mutter
A2: Datum | H2: Name: | J2: ='Rechnung Krankenkasse'!C4 -> 0 | O2: Datum | V2: Name: | X2: ='Rechnung Krankenkasse'!B4 -> 0
A3: Tag p.p. | H3: Vorname: | J3: ='Rechnung Krankenkasse'!C5 -> 0 | O3: Tag p.p. | V3: Vorname: | X3: ='Rechnung Krankenkasse'!B5 -> 0
A4: Zeit: | H4: Geburt: | O4: Zeit: | V4: Geburt:
A5: Allg.zust./Befinden | H5: Vorgespräch am: | O5: Allg.zust./Befinden | V5: Vorgespräch am:
A6: Fieber | H6: Blutgruppe: | J6: =Spitaldaten!C11 -> 0 | O6: Fieber | V6: Blutgruppe:
A7: BD (Ödeme) | H7: Beobachtungen/Verlauf | O7: BD (Ödeme) | V7: Beobachtungen/Verlauf
A8: Puls | O8: Puls
A9: MM abgepumpt | O9: MM abgepumpt
A10: Mamille | O10: Mamille
A11: Mammae | O11: Mammae
A12: Medis | O12: Medis
A14: Lochien | B14: Stärke | O14: Lochien | P14: Stärke
B15: Geruch | P15: Geruch
B16: Farbe | P16: Farbe
B17: Bindensorte | P17: Bindensorte
B18: Bindenwechsel | P18: Bindenwechsel
A19: Damm Sz. | B19: (III° keine Verstopf.!) | O19: Damm Sz. | P19: (III° keine Verstopf.!)
B20: Aussehen | P20: Aussehen
A21: Hämorrhoiden | O21: Hämorrhoiden
A22: Sectionaht: | B22: Aussehen | O22: Sectionaht: | P22: Aussehen
A23: (tgl. duschen) | B23: Hygiene | O23: (tgl. duschen) | P23: Hygiene
B24: Druck-Sz. | P24: Druck-Sz.
B25: Rötung | P25: Rötung
A26: Uterus: | B26: Kontraktion | O26: Uterus: | P26: Kontraktion
B27: Stand | P27: Stand
A28: Bauchlage | O28: Bauchlage
A29: Stuhlgang | O29: Stuhlgang
A30: Ernährung | O30: Ernährung
A31: Urin | B31: Häufigkeit | O31: Urin | P31: Häufigkeit
B32: Inkontinens | P32: Inkontinens
B33: Sz | P33: Sz
B34: Restharn | P34: Restharn
A35: Beckenbodenübungen | O35: Beckenbodenübungen
A36: Ausgangsniveau | O36: Ausgangsniveau
A37: Pflegemittel | O37: Pflegemittel
A38: Einschätzung der Mutter | O38: Einschätzung der Mutter
A39: Kopfschmerzen (BD >160/100, Übelk., Sehen, Bauchsz.) | O39: Kopfschmerzen (BD >160/100, Übelk., Sehen, Bauchsz.)
A40: Rückensz. | O40: Rückensz.
A41: Sonstiges | O41: Sonstiges
...

Sheet Gespräche
A1: Stillen warum / WHO Empfehlung | I1: Kinderarzttermin
A3: Stillpositionen (Wiege-, Seiten- und Liegeposition) | I3: Gyn.arzttermin
A5: Weiss Frau wie Kind effizient trinkt? | I5: Info Mütterberatung
A7: Brustmassage und Ausstreichen der Milch bekannt? | I7: EPDS Score
A9: Was tun beim Entwicklungs- /Wachstumsschub? Wie gibt es mehr MM? | I9: Gesundheitsheft Eintrag am Ende
A11: Was ist Cluster Feeding? | I11: Qualifragebogen
A13: Was tun, wenn Kind oder Frau krank ist (Fieber, Durchfall)? | H13: Infoblätter: | M13: bei Bed. | N13: abgegeben
I14: Stillpositionen und Brustmassage und Ausstreichen | O14:  | P14: gratis Abreissblock von www.ardomedical.com oder Tel.: 041 754 70 70
A15: Milchstau
I16: Flyer Wochenbett-/Erschöpfungsdepression | O16:  | P16: PRO MENTE SANA (gelber gratis Flyer zu bestellen unter Tel.: 044 563 86 00 oder www.promentesana.ch)
A17: Wie Kind beruhigen ausser stillen?
I18: www.wochenbettbetreuung.ch (Ratgeber von A bis Z) | P18: Werbeflyer
A19: Wie Kind wecken?
I20: Rückbildungsbroschüre / Beckenboden | O20:  | P20: 1 Fr./ Stück bestellen bei Susanne Rodmann Srodmann@vtxmail.ch oder 078 779 90 94 / 061 301 33 28
A21: Vergesslichkeit / Haarausfall in der Stillzeit
I22: Was tun bei einem Milchstau/Problemen voreugen | O22:  | P22: eigenes Formular von Jana Gerber bei Bed. bei mir anfordern
A23: Schlafverhalten des Kindes
I24: Beikosteinführungs-Infoblatt | O24:  | P24: eigenes Formular von Jana Gerber bei Bed. bei mir anfordern
A25: Körpernähe / Tragen / verwöhnen
I26: Impfinfoblatt | O26:  | P26: http://www.bag.admin.ch/impfinformation/06314/index.html | U26: (herunter laden und drucken)
A27: Lagerung Kind/Kopf des Kindes
I28: Stillen - ein gesunder Start ins Leben | O28:  | P28: http://www.stiftungstillen.ch/logicio/pmws/indexDOM.php?client_id=stillen&page_id=material&lang_iso639=de
A29: Lochienverlauf
I30: Ardo/Medela Materialinfo | O30:  | P30: www.ardomedical.com oder Tel.: 041 754 70 70
A31: Beckenbodenübungen
I32: Lilli Pads | O32:  | P32: www.ardomedical.com oder Tel.: 041 754 70 70
A33: Ernährung der Mutter
I34: Ernährungsflyer in Schwangerschaft u. Stillzeit | O34:  | P34: http://www.bag.admin.ch/themen/ernaehrung_bewegung/05207/05217/
A35: Was beachten bei Herpes?
I36: Osteopathie / Shiatsu Infomaterial
A37: Welche Ausscheidungsmenge ist normal? | P37: http://www.stiftungstillen.ch/logicio/client/stillen/file/stillen/Merkblatt_fur_Mutter_Neu.pdf
I38: Zurück zur Arbeit | O38:  | P38: http://www.stiftungstillen.ch/logicio/client/stillen/file/stillen/Merkblatt_fur_Arbeitgeber.pdf
A39: Pucken
I40: Castillo Morales Gesichtsstimulation | O40:  | P40: Eigenkreation:-) von Jana Gerber bei Bed. bei mir anfordern
A41: Unterstützung im Alltag / Rolle Vater
I42: Verhütungsinfomaterial | O42:  | P42: aus den Schulungsunterlagen vom VELB
A43: Babybad / Nabelpflege / Säuglingspflege
I44: Infoblatt für Unterstützung bei krankem Kind oder finanz. Problemen | O44:  | P44: selbst zusammengestellt
A45: Tragtuch wie binden?
I46: nützliche Links (Mama Oase, etc.) | O46: è | P46: selbst zusammengestellt
...
