Workbook
Name Bezeichnung: 'Normdefizite 2014'!$A$4:$A$11

Sheet Jan
A1: Rechnungsstellung an die Stadt Winterthur 2014
A2: für Leistungserbringer mit Leistungsvereinbarung: ambulante Pflege / Spitex
A6: Betriebs-Nummer (ZSR-Nr.) | B6: Name/Bezeichnung Spitex Organsiation | C6: PLZ | D6: Ort | E6: Monat | F6: Jahr | G6: Name | H6: Vorname(n) | I6: Geburts-datum | J6: Neue AHV-Nr. | K6: Strasse | L6: Nr. | M6: PLZ | N6: Ort | O6: Leistungsart | P6: Akut- / Übergangs-pflege | Q6: Leistungsart | R6: Anzahl verrechn. Stunden | S6: Vereinbarte Restkosten /Leist.std.* | T6: Normdefizit / Leist.std. | U6: Beitrag öffentl. Hand | V6: Anteil Gemeinde Normdefizit | W6: Mehrkosten Gemeinde | X6: Test alles ausgefüllt ? | Y6: Test Pabe = - 8; wenn <>0 => FALSCH | Z6: Test HW = 38.8; wenn <0 => FALSCH
A7: T 7001.01 | B7: Spitexorganisation 1 | C7: 8400 | D7: Winterthur | E7: 1 | F7: 2014 | G7: Muster | H7: Max | I7: 12785 | J7: 756.6000.000.00 | K7: Lagerhausstrasse | L7: 6 | M7: 8400 | N7: Winterthur | O7: Pflege; Abklärung und Beratung | P7: =IF(LEFT(O7,2)="","",IF(LEFT(O7,2)="Pf","Nein","Ja")) -> Nein | Q7: =IF(O7="","",VLOOKUP(O7,'Normdefizite 2014'!$A$4:$E$11,2,0)) -> KLV-A | R7: 10 | S7: 39.05 | T7: =IF(O7="","",VLOOKUP(O7,'Normdefizite 2014'!$A$4:$D$11,4,0)) -> 39.05 | U7: =IF(R7=0,"",R7*S7) -> 390.5 | V7: =IF(R7=0,"",IF(T7="","",T7*R7)) -> 390.5 | W7: =IF(U7<0,"",IF(U7="","",IF(U7-V7<0,"",U7-V7))) -> 0 | X7: =IF(G7="","",IF(G7<>"",IF(J7="","AHV Nr fehlt!",""),"Name fehlt!")) | Y7: =IF(O7<>"Pflege; Abzug Patientenbeteiligung","",IF(O7="Pflege; Abzug Patientenbeteiligung",8+S7,"")) | Z7: =IF(O7<>"Pflege; nicht pflegerische Spitex Leistung","",IF(O7="Pflege; nicht pflegerische Spitex Leistung",38.8-S7,""))
A8: =A7 -> T 7001.01 | B8: =B7 -> Spitexorganisation 1 | C8: 8400 | D8: Winterthur | E8: 1 | F8: 2014 | G8: Muster | H8: Max | I8: =I7 -> 12785 | J8: 756.6000.000.00 | K8: =K7 -> Lagerhausstrasse | L8: 6 | M8: =M7 -> 8400 | N8: =N7 -> Winterthur | O8: Pflege; Untersuchung und Behandlung | P8: =IF(LEFT(O8,2)="","",IF(LEFT(O8,2)="Pf","Nein","Ja")) -> Nein | Q8: =IF(O8="","",VLOOKUP(O8,'Normdefizite 2014'!$A$4:$E$11,2,0)) -> KLV-B | R8: 20 | S8: 25.75 | T8: =IF(O8="","",VLOOKUP(O8,'Normdefizite 2014'!$A$4:$D$11,4,0)) -> 25.75 | U8: =IF(R8=0,"",R8*S8) -> 515 | V8: =IF(R8=0,"",IF(T8="","",T8*R8)) -> 515 | W8: =IF(U8<0,"",IF(U8="","",IF(U8-V8<0,"",U8-V8))) -> 0 | X8: =IF(G8="","",IF(G8<>"",IF(J8="","AHV Nr fehlt!",""),"Name fehlt!")) | Y8: =IF(O8<>"Pflege; Abzug Patientenbeteiligung","",IF(O8="Pflege; Abzug Patientenbeteiligung",8+S8,"")) | Z8: =IF(O8<>"Pflege; nicht pflegerische Spitex Leistung","",IF(O8="Pflege; nicht pflegerische Spitex Leistung",38.8-S8,""))
A9: =A8 -> T 7001.01 | B9: =B8 -> Spitexorganisation 1 | C9: 8400 | D9: Winterthur | E9: 1 | F9: 2014 | G9: Muster | H9: Max | I9: =I8 -> 12785 | J9: 756.6000.000.00 | K9: =K8 -> Lagerhausstrasse | L9: 6 | M9: =M8 -> 8400 | N9: =N8 -> Winterthur | O9: Pflege; Grundpflege | P9: =IF(LEFT(O9,2)="","",IF(LEFT(O9,2)="Pf","Nein","Ja")) -> Nein | Q9: =IF(O9="","",VLOOKUP(O9,'Normdefizite 2014'!$A$4:$E$11,2,0)) -> KLV-C | R9: 30 | S9: 36.05 | T9: =IF(O9="","",VLOOKUP(O9,'Normdefizite 2014'!$A$4:$D$11,4,0)) -> 36.05 | U9: =IF(R9=0,"",R9*S9) -> 1081.5 | V9: =IF(R9=0,"",IF(T9="","",T9*R9)) -> 1081.5 | W9: =IF(U9<0,"",IF(U9="","",IF(U9-V9<0,"",U9-V9))) -> 0 | X9: =IF(G9="","",IF(G9<>"",IF(J9="","AHV Nr fehlt!",""),"Name fehlt!")) | Y9: =IF(O9<>"Pflege; Abzug Patientenbeteiligung","",IF(O9="Pflege; Abzug Patientenbeteiligung",8+S9,"")) | Z9: =IF(O9<>"Pflege; nicht pflegerische Spitex Leistungen","",IF(O9="Pflege; nicht pflegerische Spitex Leistungen",38.8-S9,""))
O10: Pflege; Abzug Patientenbeteiligung | P10: =IF(LEFT(O10,2)="","",IF(LEFT(O10,2)="Pf","Nein","Ja")) -> Nein | Q10: =IF(O10="","",VLOOKUP(O10,'Normdefizite 2014'!$A$4:$E$11,2,0)) -> Beteiligung | R10: 1 | S10: -8 | T10: =IF(O10="","",VLOOKUP(O10,'Normdefizite 2014'!$A$4:$D$11,4,0)) -> -8 | U10: =IF(R10=0,"",R10*S10) -> -8 | V10: =IF(R10=0,"",IF(T10="","",T10*R10)) -> -8 | W10: =IF(U10<0,"",IF(U10="","",IF(U10-V10<0,"",U10-V10))) | X10: =IF(G10="","",IF(G10<>"",IF(J10="","AHV Nr fehlt!",""),"Name fehlt!")) | Y10: =IF(O10<>"Pflege; Abzug Patientenbeteiligung","",IF(O10="Pflege; Abzug Patientenbeteiligung",8+S10,"")) -> 0 | Z10: =IF(O10<>"Pflege; nicht pflegerische Spitex Leistungen","",IF(O10="Pflege; nicht pflegerische Spitex Leistungen",38.8-S10,""))
P11: =IF(LEFT(O11,2)="","",IF(LEFT(O11,2)="Pf","Nein","Ja")) | Q11: =IF(O11="","",VLOOKUP(O11,'Normdefizite 2014'!$A$4:$E$11,2,0)) | T11: =IF(O11="","",VLOOKUP(O11,'Normdefizite 2014'!$A$4:$D$11,4,0)) | U11: =IF(R11=0,"",R11*S11) | V11: =IF(R11=0,"",IF(T11="","",T11*R11)) | W11: =IF(U11<0,"",IF(U11="","",IF(U11-V11<0,"",U11-V11))) | X11: =IF(G11="","",IF(G11<>"",IF(J11="","AHV Nr fehlt!",""),"Name fehlt!")) | Y11: =IF(O11<>"Pflege; Abzug Patientenbeteiligung","",IF(O11="Pflege; Abzug Patientenbeteiligung",8+S11,""))
P12: =IF(LEFT(O12,2)="","",IF(LEFT(O12,2)="Pf","Nein","Ja")) | Q12: =IF(O12="","",VLOOKUP(O12,'Normdefizite 2014'!$A$4:$E$11,2,0)) | T12: =IF(O12="","",VLOOKUP(O12,'Normdefizite 2014'!$A$4:$D$11,4,0)) | U12: =IF(R12=0,"",R12*S12) | V12: =IF(R12=0,"",IF(T12="","",T12*R12)) | W12: =IF(U12<0,"",IF(U12="","",IF(U12-V12<0,"",U12-V12))) | X12: =IF(G12="","",IF(G12<>"",IF(J12="","AHV Nr fehlt!",""),"Name fehlt!")) | Y12: =IF(O12<>"Pflege; Abzug Patientenbeteiligung","",IF(O12="Pflege; Abzug Patientenbeteiligung",8+S12,""))
P13: =IF(LEFT(O13,2)="","",IF(LEFT(O13,2)="Pf","Nein","Ja")) | Q13: =IF(O13="","",VLOOKUP(O13,'Normdefizite 2014'!$A$4:$E$11,2,0)) | T13: =IF(O13="","",VLOOKUP(O13,'Normdefizite 2014'!$A$4:$D$11,4,0)) | U13: =IF(R13=0,"",R13*S13) | V13: =IF(R13=0,"",IF(T13="","",T13*R13)) | W13: =IF(U13<0,"",IF(U13="","",IF(U13-V13<0,"",U13-V13))) | X13: =IF(G13="","",IF(G13<>"",IF(J13="","AHV Nr fehlt!",""),"Name fehlt!")) | Y13: =IF(O13<>"Pflege; Abzug Patientenbeteiligung","",IF(O13="Pflege; Abzug Patientenbeteiligung",8+S13,""))
P14: =IF(LEFT(O14,2)="","",IF(LEFT(O14,2)="Pf","Nein","Ja")) | Q14: =IF(O14="","",VLOOKUP(O14,'Normdefizite 2014'!$A$4:$E$11,2,0)) | T14: =IF(O14="","",VLOOKUP(O14,'Normdefizite 2014'!$A$4:$D$11,4,0)) | U14: =IF(R14=0,"",R14*S14) | V14: =IF(R14=0,"",IF(T14="","",T14*R14)) | W14: =IF(U14<0,"",IF(U14="","",IF(U14-V14<0,"",U14-V14))) | X14: =IF(G14="","",IF(G14<>"",IF(J14="","AHV Nr fehlt!",""),"Name fehlt!")) | Y14: =IF(O14<>"Pflege; Abzug Patientenbeteiligung","",IF(O14="Pflege; Abzug Patientenbeteiligung",8+S14,""))
P15: =IF(LEFT(O15,2)="","",IF(LEFT(O15,2)="Pf","Nein","Ja")) | Q15: =IF(O15="","",VLOOKUP(O15,'Normdefizite 2014'!$A$4:$E$11,2,0)) | T15: =IF(O15="","",VLOOKUP(O15,'Normdefizite 2014'!$A$4:$D$11,4,0)) | U15: =IF(R15=0,"",R15*S15) | V15: =IF(R15=0,"",IF(T15="","",T15*R15)) | W15: =IF(U15<0,"",IF(U15="","",IF(U15-V15<0,"",U15-V15))) | X15: =IF(G15="","",IF(G15<>"",IF(J15="","AHV Nr fehlt!",""),"Name fehlt!")) | Y15: =IF(O15<>"Pflege; Abzug Patientenbeteiligung","",IF(O15="Pflege; Abzug Patientenbeteiligung",8+S15,""))
P16: =IF(LEFT(O16,2)="","",IF(LEFT(O16,2)="Pf","Nein","Ja")) | Q16: =IF(O16="","",VLOOKUP(O16,'Normdefizite 2014'!$A$4:$E$11,2,0)) | T16: =IF(O16="","",VLOOKUP(O16,'Normdefizite 2014'!$A$4:$D$11,4,0)) | U16: =IF(R16=0,"",R16*S16) | V16: =IF(R16=0,"",IF(T16="","",T16*R16)) | W16: =IF(U16<0,"",IF(U16="","",IF(U16-V16<0,"",U16-V16))) | X16: =IF(G16="","",IF(G16<>"",IF(J16="","AHV Nr fehlt!",""),"Name fehlt!")) | Y16: =IF(O16<>"Pflege; Abzug Patientenbeteiligung","",IF(O16="Pflege; Abzug Patientenbeteiligung",8+S16,""))
P17: =IF(LEFT(O17,2)="","",IF(LEFT(O17,2)="Pf","Nein","Ja")) | Q17: =IF(O17="","",VLOOKUP(O17,'Normdefizite 2014'!$A$4:$E$11,2,0)) | T17: =IF(O17="","",VLOOKUP(O17,'Normdefizite 2014'!$A$4:$D$11,4,0)) | U17: =IF(R17=0,"",R17*S17) | V17: =IF(R17=0,"",IF(T17="","",T17*R17)) | W17: =IF(U17<0,"",IF(U17="","",IF(U17-V17<0,"",U17-V17))) | X17: =IF(G17="","",IF(G17<>"",IF(J17="","AHV Nr fehlt!",""),"Name fehlt!")) | Y17: =IF(O17<>"Pflege; Abzug Patientenbeteiligung","",IF(O17="Pflege; Abzug Patientenbeteiligung",8+S17,""))
P18: =IF(LEFT(O18,2)="","",IF(LEFT(O18,2)="Pf","Nein","Ja")) | Q18: =IF(O18="","",VLOOKUP(O18,'Normdefizite 2014'!$A$4:$E$11,2,0)) | T18: =IF(O18="","",VLOOKUP(O18,'Normdefizite 2014'!$A$4:$D$11,4,0)) | U18: =IF(R18=0,"",R18*S18) | V18: =IF(R18=0,"",IF(T18="","",T18*R18)) | W18: =IF(U18<0,"",IF(U18="","",IF(U18-V18<0,"",U18-V18))) | X18: =IF(G18="","",IF(G18<>"",IF(J18="","AHV Nr fehlt!",""),"Name fehlt!")) | Y18: =IF(O18<>"Pflege; Abzug Patientenbeteiligung","",IF(O18="Pflege; Abzug Patientenbeteiligung",8+S18,""))
P19: =IF(LEFT(O19,2)="","",IF(LEFT(O19,2)="Pf","Nein","Ja")) | Q19: =IF(O19="","",VLOOKUP(O19,'Normdefizite 2014'!$A$4:$E$11,2,0)) | T19: =IF(O19="","",VLOOKUP(O19,'Normdefizite 2014'!$A$4:$D$11,4,0)) | U19: =IF(R19=0,"",R19*S19) | V19: =IF(R19=0,"",IF(T19="","",T19*R19)) | W19: =IF(U19<0,"",IF(U19="","",IF(U19-V19<0,"",U19-V19))) | X19: =IF(G19="","",IF(G19<>"",IF(J19="","AHV Nr fehlt!",""),"Name fehlt!")) | Y19: =IF(O19<>"Pflege; Abzug Patientenbeteiligung","",IF(O19="Pflege; Abzug Patientenbeteiligung",8+S19,""))
P20: =IF(LEFT(O20,2)="","",IF(LEFT(O20,2)="Pf","Nein","Ja")) | Q20: =IF(O20="","",VLOOKUP(O20,'Normdefizite 2014'!$A$4:$E$11,2,0)) | T20: =IF(O20="","",VLOOKUP(O20,'Normdefizite 2014'!$A$4:$D$11,4,0)) | U20: =IF(R20=0,"",R20*S20) | V20: =IF(R20=0,"",IF(T20="","",T20*R20)) | W20: =IF(U20<0,"",IF(U20="","",IF(U20-V20<0,"",U20-V20))) | X20: =IF(G20="","",IF(G20<>"",IF(J20="","AHV Nr fehlt!",""),"Name fehlt!")) | Y20: =IF(O20<>"Pflege; Abzug Patientenbeteiligung","",IF(O20="Pflege; Abzug Patientenbeteiligung",8+S20,""))
P21: =IF(LEFT(O21,2)="","",IF(LEFT(O21,2)="Pf","Nein","Ja")) | Q21: =IF(O21="","",VLOOKUP(O21,'Normdefizite 2014'!$A$4:$E$11,2,0)) | T21: =IF(O21="","",VLOOKUP(O21,'Normdefizite 2014'!$A$4:$D$11,4,0)) | U21: =IF(R21=0,"",R21*S21) | V21: =IF(R21=0,"",IF(T21="","",T21*R21)) | W21: =IF(U21<0,"",IF(U21="","",IF(U21-V21<0,"",U21-V21))) | X21: =IF(G21="","",IF(G21<>"",IF(J21="","AHV Nr fehlt!",""),"Name fehlt!")) | Y21: =IF(O21<>"Pflege; Abzug Patientenbeteiligung","",IF(O21="Pflege; Abzug Patientenbeteiligung",8+S21,""))
P22: =IF(LEFT(O22,2)="","",IF(LEFT(O22,2)="Pf","Nein","Ja")) | Q22: =IF(O22="","",VLOOKUP(O22,'Normdefizite 2014'!$A$4:$E$11,2,0)) | T22: =IF(O22="","",VLOOKUP(O22,'Normdefizite 2014'!$A$4:$D$11,4,0)) | U22: =IF(R22=0,"",R22*S22) | V22: =IF(R22=0,"",IF(T22="","",T22*R22)) | W22: =IF(U22<0,"",IF(U22="","",IF(U22-V22<0,"",U22-V22))) | X22: =IF(G22="","",IF(G22<>"",IF(J22="","AHV Nr fehlt!",""),"Name fehlt!")) | Y22: =IF(O22<>"Pflege; Abzug Patientenbeteiligung","",IF(O22="Pflege; Abzug Patientenbeteiligung",8+S22,""))
... P99: =IF(LEFT(O99,2)="","",IF(LEFT(O99,2)="Pf","Nein","Ja")) | Q99: =IF(O99="","",VLOOKUP(O99,'Normdefizite 2014'!$A$4:$E$11,2,0)) | T99: =IF(O99="","",VLOOKUP(O99,'Normdefizite 2014'!$A$4:$D$11,4,0)) | U99: =IF(R99=0,"",R99*S99) | V99: =IF(R99=0,"",IF(T99="","",T99*R99)) | W99: =IF(U99<0,"",IF(U99="","",IF(U99-V99<0,"",U99-V99))) | X99: =IF(G99="","",IF(G99<>"",IF(J99="","AHV Nr fehlt!",""),"Name fehlt!")) | Y99: =IF(O99<>"Pflege; Abzug Patientenbeteiligung","",IF(O99="Pflege; Abzug Patientenbeteiligung",8+S99,""))
A100: Total | R100: =SUM(R7:R99) -> 61 | U100: =SUM(U7:U99) -> 1979 | V100: =SUM(V7:V99) -> 1979 | W100: =SUM(W7:W99) -> 0 | Y100: =IF(O100<>"Pflege; Abzug Patientenbeteiligung","",IF(O100="Pflege; Abzug Patientenbeteiligung",8+S100,""))
A101: weitere Zeilen können eingeblendet werden
A103: * Ausgewiesene Kosten abzüglich Anteil Krankenversicherer (inklusive Patientenbeteiligung)
A104: der Abzug Patientenbeteiligung (Fr. 8.- pro Tag) wird dem Patienten verrechnet und deshalb von den Kosten der Stadt abgezogen
A105: Für Jugentliche unter 18 Jahren , in Fällen wo für eine/n Klient/in am gleichen Tag mehrere Leistungserbringer Pflegeleistungen erbringen sowie bei Klient/innen,
A106: die über MV/IV/EO abgerechnet werden müssen etc., muss die Patientenbeteiligung von Fr. 8.- pro Tag nicht abgezogen werden.
A108: ** Normdefizit von 2011. Gemäss kant. Kreisschreiben vom 14.10.2011, Punkt 6 , legt die GD für die nicht pflegerischen Spitexleistungen kein Normdefizit mehr fest
B110: Muss Felder; kantonale Vorgabe
B111: Felder von Stadt Winterthur zur Überprüfung
B112: Eingabefelder
B113: berechnete Felder (schreibgeschützt)
R132: Achtung Gültigkeit wurde hinterlegt
A140: Spitex
A141: Finanzkraftindex | B141: SB-Satz
A142: 108 | B142: 41

Sheet Normdefizite 2014
A3: Bezeichnung | B3: Bezeichnung 2 | C3: Normkosten / Leist.std. | D3: Normdefizit / Leist.std. | E3: Beitrag Leistungs-bezüger
A4: A&Ü; Abklärung und Beratung | B4: A&Ü-A | C4: 121.2 | D4: 66.65 | E4: 0 | F4: Annahme: öff. Hand bezahlt 55% der Normkosten, Vesicherer = 45% (keine Eigenbeteiligung durch Leistungsbezüger)
A5: A&Ü; Untersuchung und Behandlung | B5: A&Ü-B | C5: 119.25 | D5: 65.6 | E5: 0
A6: A&Ü; Grundpflege | B6: A&Ü-C | C6: 105.6 | D6: 58.1 | E6: 0
A7: Pflege; Abzug Patientenbeteiligung | B7: Beteiligung | D7: -8 | E7: 8
A8: Pflege; Abklärung und Beratung | B8: KLV-A | C8: 126.83 | D8: 39.05 | E8: 8
A9: Pflege; Untersuchung und Behandlung | B9: KLV-B | C9: 115.13 | D9: 25.75 | E9: 24
A10: Pflege; Grundpflege | B10: KLV-C | C10: 102.63 | D10: 36.05 | E10: 12
A11: Pflege; nicht pflegerische Spitex Leistungen | B11: N-KLV | C11: 76.16 | D11: 38.08 | E11: 38.08
A16: Normdefizit von 2011. Gemäss kant. Kreisschreiben vom 14.10.2011, Punkt 6 , legt die GD für die nicht pflegerischen Spitexleistungen kein Normdefizit mehr fest
