Workbook

Sheet Rechnung Krankenkasse
A1: RECHNUNG
A3: Personalien Kunden/in | F3: Name und Adresse der Versicherung
A4: Name
A5: Vorname
A6: Adresse
A7: PLZ/Ort
A8: Telefon
A9: Geburtsdatum
A10: Versicherten-Nr.
A12: Verordnender Arzt/Ärztin | F12: Pflegefachfrau Wochenbett
A13: Name | F13: Name
A14: Vorname | F14: Vorname
A15: Adresse | F15: Adresse
A16: PLZ/Ort | F16: PLZ/Ort
A17: Telefon | F17: Telefon
A18: ZSR-Nummer | F18: ZSR-Nummer
A20: Es handelt sich um: o Unfall o Krankheit o Invalidität o Prävention X Mutterschaft
A21: Die Behandlung ist: o abgeschlossen o muss weitergeführt werden
A23: Kalendarium (Anzahl erbrachte Stunden in den beiden Vormonaten: ........... Std.)
A25: Ausgeführte Leistungen nach KLV 7 von | E25: 14 bis 14
A27: Datum | B27: Leistung | E27: Dauer Minuten | F27: Datum | G27: Leistung | J27: Dauer Minuten
B28: Tarif a Bedarfsabklärung | E28: 60 | G28: Tarif b Betreuung | J28: 60
B29: Tarif a Beratung | G29: "
B30: " | G30: "
B31: " | G31: "
B32: " | G32: "
B33: "
G40: Total Tarif b | J40: =SUM(J28:J39) -> 60
B41: Total Tarif a | E41: =SUM(E28:E40) -> 60 | G41: Total Tarif a,b | J41: =SUM(E41+J40) -> 120
A42: Material gemäss MiGeL | D42: Positionsnummer | F42: Material gemäss MiGeL | I42: Positionsnummer
A43: Verband Erwachsene (6.10 Fr) | D43: 34.99.01.03.1
A44: BE/VW Erwachsene (8.80 Fr) | D44: 34.99.01.02.1
A47: Gesamttotal Tarif a in Minuten .......... | E47: =E41 -> 60 | G47: CHF | H47: =E47*13.3/10 -> 79.8
A48: Gesamttotal Tarif b in Minuten .......... | E48: =J40 -> 60 | G48: CHF | H48: =E48*10.9/10 -> 65.4
A49: Gesamttotal KLV 7 in Minuten .......... | E49: =SUM(E47:E48) -> 120 | G49: CHF
A50: Gesamttotal Material gemäss MiGeL | G50: CHF | H50: =E50 -> 0
G51: Rechnungsbetrag
A53: Rechnungsdatum: | C53: .1.2014 | G53: CHF | H53: =ROUND((SUM(H47:H48:H50))*20,0)/20 -> 145.2
I54: Version für 2014 Nov 13

Sheet Gemeinde einfach
A3: Name
A4: Wochenbett - Pflegefachfrau HF
A5: Strasse
A6: PLZ Ort | E6: Politische Gemeinde
A7: Telefon
A8: ZSR NR.
A17: RECHNUNG Restfinanzierung nach KLV 7 | F17: Ort , 1.2014
A19: Gemeindebeitrag für: | C19: Dauer: | D19: Zeitaufwand | E19: Betrag/Std. | F19: Betrag in CHF:
A20: Wochenbettbetreuung | C20: in Tagen | D20: (in Std.):
A21: ohne Patientenbeteiligung
A22: ='Rechnung Krankenkasse'!B4 -> 0 | D22: ='Rechnung Krankenkasse'!E49/60 -> 2 | E22: 43.75 | F22: =ROUND((D22*E22)*20,0)/20 -> 87.5
A23: ='Rechnung Krankenkasse'!B5 -> 0
A24: ='Rechnung Krankenkasse'!B6 -> 0
A25: ='Rechnung Krankenkasse'!B7 -> 0
A28: Beilagen:
A30: 1 ärztliche Verordnung
E34: Total in CHF | F34: =SUM(F22:F31) -> 87.5
A39: Zahlungskonditionen: | C39: 30 Tage netto
A48: Bankverbindung:

Sheet Gemeinde ABC
A3: ='Gemeinde einfach'!A3 -> Name
A4: ='Gemeinde einfach'!A4 -> Wochenbett - Pflegefachfrau HF
A5: ='Gemeinde einfach'!A5 -> Strasse | H5: Gemeinde
A6: ='Gemeinde einfach'!A6 -> PLZ Ort | H6: Finanzverwaltung
A7: ='Gemeinde einfach'!A7 -> Telefon
A8: ='Gemeinde einfach'!A8 -> ZSR NR.
A17: RECHNUNG Restfinanzierung nach KLV 7 | I17: Ort,1.14
A19: Gemeindebeitrag für: | C19: Dauer: | D19: Min. | E19: Min. | F19: CHF | G19: CHF | H19: Total | I19: Total CHF
A20: Wochenbettbetreuung | C20: in Tagen | D20: A | E20: B | F20: A | G20: B | H20: Min. | I20: (A+B)
A21: ohne Patientenbeteiligung
A22: ='Rechnung Krankenkasse'!B4 -> 0 | C22: 2 | D22: ='Rechnung Krankenkasse'!E41 -> 60 | E22: ='Rechnung Krankenkasse'!J40 -> 60 | F22: =D22/60*37 -> 37 | G22: =E22/60*41.9 -> 41.9 | H22: =SUM(D22:E22) -> 120 | I22: =SUM(F22:G22) -> 78.9
A23: ='Rechnung Krankenkasse'!B5 -> 0
A24: ='Rechnung Krankenkasse'!B6 -> 0
A25: ='Rechnung Krankenkasse'!B7 -> 0
A28: Beilagen:
A30: 1 ärztliche Verordnung
H34: Total in CHF | I34: =ROUND((SUM(I22:I31))*20,0)/20 -> 78.9
A39: Zahlungskonditionen: | C39: 30 Tage netto
A50: ='Gemeinde einfach'!A48 -> Bankverbindung:
A51: ='Gemeinde einfach'!A49 -> 0
A52: ='Gemeinde einfach'!A50 -> 0

Sheet Gemeinde mit Pat.Bet.
A3: Name
A4: Wochenbett - Pflegefachfrau HF
A5: Strasse
A6: PLZ Ort
A7: Tel | H7: Politische Gemeinde
A8: ZSR NR.
H9: Finanzen
A17: RECHNUNG Restfinanzierung nach KLV 7 | I17: Ort, 1.14
A19: Gemeindebeitrag für: | C19: Dauer: | D19: Min. | E19: Min. | F19: CHF | G19: CHF | H19: Total | I19: Total CHF
A20: Wochenbettbetreuung | C20: in Tagen | D20: A | E20: B | F20: A | G20: B | H20: Min. | I20: (A+B)
A21: mit Patientenbeteiligung
A22: ='Rechnung Krankenkasse'!B4 -> 0 | D22: ='Rechnung Krankenkasse'!E41 -> 60 | E22: ='Rechnung Krankenkasse'!J40 -> 60 | F22: =D22/60*29 -> 29 | G22: =E22/60*17.9 -> 17.9 | H22: =SUM(D22:E22) -> 120 | I22: =SUM(F22:G22) -> 46.9
A23: ='Rechnung Krankenkasse'!B5 -> 0
A24: ='Rechnung Krankenkasse'!B6 -> 0
A25: ='Rechnung Krankenkasse'!B7 -> 0
A28: Beilagen:
A30: 1 ärztliche Verordnung
H34: Total in CHF | I34: =ROUND((SUM(I22:I31))*20,0)/20 -> 46.9
A39: Zahlungskonditionen: | C39: 30 Tage netto
A44: Bei Fragen wenden Sie sich bitte an Frau
A50: ='Gemeinde einfach'!A48 -> Bankverbindung:
A51: ='Gemeinde einfach'!A49 -> 0
A52: ='Gemeinde einfach'!A50 -> 0

Sheet Frau
A3: Name
A4: Pflegefachfrau HF
A5: Strasse
A6: Ort
A7: Tel | D7: =CONCATENATE('Rechnung Krankenkasse'!B5," ",'Rechnung Krankenkasse'!B4)
A8: ZSR NR. | D8: ='Rechnung Krankenkasse'!B6 -> 0
D9: ='Rechnung Krankenkasse'!B7 -> 0
A17: RECHNUNG | E17: Ort, 14
A19: Patientenbeteiligung | C19: Dauer: | D19: Betrag/Tag | E19: Betrag in CHF:
A20: Wochenbett | C20: in Tagen
A22: ='Rechnung Krankenkasse'!E25 -> 14 bis 14 | C22: 4 | D22: 8 | E22: =C22*D22 -> 32
D33: Total in CHF | E33: =SUM(E22:E30) -> 32
A39: Zahlungskonditionen: | B39: 30 Tage
A42: Grüezi mitenand!
A43: Wie besprochen sende ich Euch die Rechung des Patientenanteiles Ihres Wohnortes.
A44: Bei Fragen wendet Euch bitte an den Finanzchef Eurer Gemeinde/Stadt.
A45: Nochmals herzlichen Dank für Euer Vertrauen und alles Gute!
A46: Mit freundlichen Grüssen Sandra Gattiker
A50: ='Gemeinde einfach'!A48 -> Bankverbindung:
A51: ='Gemeinde einfach'!A49 -> 0
A52: ='Gemeinde einfach'!A50 -> 0
