Workbook

Sheet 1. Quartal
A1: Leistungsbeiträge anerkannte Pflegefachperson | Y1: 2013
A3: Name | F3: Hänny | Q3: Vorname | U3: Elisabeth
A4: Adresse/Strasse Nr. | F4: Camenisch 179 | Q4: PLZ | S4: 7159 | U4: Ort | W4: Andiast
A5: E-Mail Adresse | F5: haenny@sunrise.ch
A6: Telefon | F6: 081 925 16 42 079 707 12 57 | Q6: Fax
A7: Bank/IBAN | F7: CH22 0077 4000 1512 4120 0 | Q7: Postcheck
A8: ="Bitte ausfüllen und bis 10. April " &Y1&" einschicken an:" -> Bitte ausfüllen und bis 10. April 2013 einschicken an: | Q8: pflegeleistungen@san.gr.ch
A9: ="Leistungsbeiträge 1. Quartal "&Y1 -> Leistungsbeiträge 1. Quartal 2013
A10: Beitragsberechtigte Stunden
A11: Leistungs-kategorie | C11: Leistungseinheiten 1. Quartal | O11: Beitragssatz | U11: Leistungsbeitrag
C12: Total | G12: nicht beitrags- berechtigt | K12: beitrags- berechtigt | O12: Kanton | R12: Gemeinde | U12: Kanton | Y12: Gemeinde
C13: Std. | G13: Std. | K13: Std. | O13: CHF | R13: CHF | U13: CHF | Y13: CHF
A14: LK 11) | C14: 453.91 | K14: =C14-G14 -> 453.91 | O14: 9.8 | R14: 8 | U14: =IF(K14>0,K14*O14,0) -> 4448.318 | Y14: =IF(K14>0,K14*R14,0) -> 3631.28
A15: LK 22) | C15: 0 | K15: =C15-G15 -> 0 | O15: 22 | R15: 18 | U15: =IF(K15>0,K15*O15,0) -> 0 | Y15: =IF(K15>0,K15*R15,0) -> 0
A16: ="Zwischtotal (LK 1) 1. Quartal "&Y1 -> Zwischtotal (LK 1) 1. Quartal 2013 | U16: =U14 -> 4448.318 | Y16: =Y14 -> 3631.28
A17: ="Zwischtotal (LK 2) 1. Quartal "&Y1 -> Zwischtotal (LK 2) 1. Quartal 2013 | U17: =U15 -> 0 | Y17: =Y15 -> 0
A18: Total Leistungsbeiträge 1. Quartal 2013 | U18: =SUM(U16:X17) -> 4448.318 | Y18: =SUM(Y16:AB17) -> 3631.28
A19: Auszahlung Kantonsbeitrag 1. Quartal 2013 (gerundet) | U19: =U18 -> 4448.318
A20: Anspruch Gemeindebeitrag 1. Quartal 2013 (gerundet) | Y20: =Y18 -> 3631.28
A21: 1) LK 1: Pflegerische Leistungen 2) LK 2: Leistungen der Akut- und Übergangspflege
A23: Folgende Beilagen sind einzureichen: LK 1: Klientenliste LK 2: separate Klientenliste und spitalärztliche Verordnung

Sheet 2. Quartal
A1: Leistungsbeiträge anerkannte Pflegefachperson | Y1: ='1. Quartal'!Y1 -> 2013
A3: Name | F3: ='1. Quartal'!F3 -> Hänny | Q3: Vorname | U3: ='1. Quartal'!U3 -> Elisabeth
A4: Adresse/Strasse Nr. | F4: ='1. Quartal'!F4 -> Camenisch 179 | Q4: PLZ | S4: ='1. Quartal'!S4 -> 7159 | U4: Ort | W4: ='1. Quartal'!W4 -> Andiast
A5: E-Mail Adresse | F5: ='1. Quartal'!F5:AB5 -> haenny@sunrise.ch
A6: Telefon | F6: ='1. Quartal'!F6 -> 081 925 16 42 079 707 12 57 | Q6: Fax | S6: ='1. Quartal'!S6:AB6 -> 0
A7: Bank/IBAN | F7: ='1. Quartal'!F7 -> CH22 0077 4000 1512 4120 0 | Q7: Postcheck | U7: ='1. Quartal'!U7 -> 0
A8: ="Bitte ausfüllen und bis 10. Juli " &Y1&" einschicken an:" -> Bitte ausfüllen und bis 10. Juli 2013 einschicken an: | Q8: ='1. Quartal'!Q8:AB8 -> pflegeleistungen@san.gr.ch
A9: Leistungsbeiträge 2. Quartal 2013
A10: Beitragsberechtigte Stunden
A11: Leistungs-kategorie | C11: Leistungseinheiten 2. Quartal | O11: Beitragssatz | U11: Leistungsbeitrag
C12: Total | G12: nicht beitrags- berechtigt | K12: beitrags- berechtigt | O12: Kanton | R12: Gemeinde | U12: Kanton | Y12: Gemeinde
C13: Std./Anz. | G13: Std./Anz. | K13: Std./Anz. | O13: CHF | R13: CHF | U13: CHF | Y13: CHF
A14: LK 11) | C14: 286.76 | K14: =C14-G14 -> 286.76 | O14: ='1. Quartal'!O14:Q14 -> 9.8 | R14: ='1. Quartal'!R14:T14 -> 8 | U14: =IF(K14>0,K14*O14,0) -> 2810.248 | Y14: =IF(K14>0,K14*R14,0) -> 2294.08
A15: LK 22) | K15: =C15-G15 -> 0 | O15: ='1. Quartal'!O15:Q15 -> 22 | R15: ='1. Quartal'!R15:T15 -> 18 | U15: =IF(K15>0,K15*O15,0) -> 0 | Y15: =IF(K15>0,K15*R15,0) -> 0
A16: Zwischentotal (LK 1) 2. Quartal 2013 | U16: =SUM(U14) -> 2810.248 | Y16: =SUM(Y14) -> 2294.08
A17: Zwischtotal (LK 2) 2. Quartal 2013 | U17: =SUM(U15:X15) -> 0 | Y17: =SUM(Y15:AB15) -> 0
A18: Total Leistungsbeiträge 2. Quartal 2013 | U18: =SUM(U16:X17) -> 2810.248 | Y18: =SUM(Y16:AB17) -> 2294.08
A19: Auszahlung Kantonsbeitrag 2. Quartal 2013 (gerundet) | U19: =U18 -> 2810.248
A20: Anspruch Gemeindebeitrag 2. Quartal 2013 (gerundet) | Y20: =Y18 -> 2294.08
A21: 1) LK 1: Pflegerische Leistungen 2) LK 2: Leistungen der Akut- und Übergangspflege
A23: Folgende Beilagen sind einzureichen: LK 1: Klientenliste LK 2: separate Klientenliste und spitalärztliche Verordnung

Sheet 3. Quartal
A1: Leistungsbeiträge anerkannte Pflegefachperson | Y1: ='1. Quartal'!Y1 -> 2013
A3: Name | F3: ='1. Quartal'!F3 -> Hänny | Q3: Vorname | U3: ='1. Quartal'!U3 -> Elisabeth
A4: Adresse/Strasse Nr. | F4: ='1. Quartal'!F4 -> Camenisch 179 | Q4: PLZ | S4: ='1. Quartal'!S4 -> 7159 | U4: Ort | W4: ='1. Quartal'!W4 -> Andiast
A5: E-Mail Adresse | F5: ='1. Quartal'!F5:AB5 -> haenny@sunrise.ch
A6: Telefon | F6: ='1. Quartal'!F6 -> 081 925 16 42 079 707 12 57 | Q6: Fax | S6: ='1. Quartal'!S6:AB6 -> 0
A7: Bank/IBAN | F7: ='1. Quartal'!F7 -> CH22 0077 4000 1512 4120 0 | Q7: Postcheck | U7: ='1. Quartal'!U7 -> 0
A8: ="Bitte ausfüllen und bis 10. Oktober " &Y1&" einschicken an:" -> Bitte ausfüllen und bis 10. Oktober 2013 einschicken an: | Q8: ='1. Quartal'!Q8:AB8 -> pflegeleistungen@san.gr.ch
A9: Leistungsbeiträge 3. Quartal 2013
A10: Beitragsberechtigte Stunden
A11: Leistungs-kategorie | C11: Leistungseinheiten 3. Quartal | O11: Beitragssatz | U11: Leistungsbeitrag
C12: Total | G12: nicht beitrags- berechtigt | K12: beitrags- berechtigt | O12: Kanton | R12: Gemeinde | U12: Kanton | Y12: Gemeinde
C13: Std./Anz. | G13: Std./Anz. | K13: Std./Anz. | O13: CHF | R13: CHF | U13: CHF | Y13: CHF
A14: LK 11) | K14: =C14-G14 -> 0 | O14: ='1. Quartal'!O14:Q14 -> 9.8 | R14: ='1. Quartal'!R14:T14 -> 8 | U14: =IF(K14>0,K14*O14,0) -> 0 | Y14: =IF(K14>0,K14*R14,0) -> 0
A15: LK 22) | K15: =C15-G15 -> 0 | O15: ='1. Quartal'!O15:Q15 -> 22 | R15: ='1. Quartal'!R15:T15 -> 18 | U15: =IF(K15>0,K15*O15,0) -> 0 | Y15: =IF(K15>0,K15*R15,0) -> 0
A16: Zwischentotal (LK 1) 3. Quartal 2013 | U16: =SUM(U14) -> 0 | Y16: =SUM(Y14) -> 0
A17: Zwischtotal (LK 2) 3. Quartal 2013 | U17: =SUM(U15:X15) -> 0 | Y17: =SUM(Y15:AB15) -> 0
A18: Total Leistungsbeiträge 3. Quartal 2013 | U18: =SUM(U16:X17) -> 0 | Y18: =SUM(Y16:AB17) -> 0
A19: Auszahlung Kantonsbeitrag 3. Quartal 2013 (gerundet) | U19: =U18 -> 0
A20: Anspruch Gemeindebeitrag 3. Quartal 2013 (gerundet) | Y20: =Y18 -> 0
A21: 1) LK 1: Pflegerische Leistungen 2) LK 2: Leistungen der Akut- und Übergangspflege
A23: Folgende Beilagen sind einzureichen: LK 1: Klientenliste LK 2: separate Klientenliste und spitalärztliche Verordnung

Sheet 4. Quartal
A1: Leistungsbeiträge anerkannte Pflegefachperson | Y1: ='1. Quartal'!Y1 -> 2013
A3: Name | F3: ='1. Quartal'!F3 -> Hänny | Q3: Vorname | U3: ='1. Quartal'!U3 -> Elisabeth
A4: Adresse/Strasse Nr. | F4: ='1. Quartal'!F4 -> Camenisch 179 | Q4: PLZ | S4: ='1. Quartal'!S4 -> 7159 | U4: Ort | W4: ='1. Quartal'!W4 -> Andiast
A5: E-Mail Adresse | F5: ='1. Quartal'!F5:AB5 -> haenny@sunrise.ch
A6: Telefon | F6: ='1. Quartal'!F6 -> 081 925 16 42 079 707 12 57 | Q6: Fax | S6: ='1. Quartal'!S6:AB6 -> 0
A7: Bank/IBAN | F7: ='1. Quartal'!F7 -> CH22 0077 4000 1512 4120 0 | Q7: Postcheck | U7: ='1. Quartal'!U7 -> 0
A8: Bitte ausfüllen und bis 10. Januar 2014 einschicken an: | Q8: ='1. Quartal'!Q8:AB8 -> pflegeleistungen@san.gr.ch
A9: Leistungsbeiträge 4. Quartal 2013
A10: Beitragsberechtigte Stunden
A11: Leistungs-kategorie | C11: Leistungseinheiten 4. Quartal | O11: Beitragssatz | U11: Leistungsbeitrag
C12: Total | G12: nicht beitrags- berechtigt | K12: beitrags- berechtigt | O12: Kanton | R12: Gemeinde | U12: Kanton | Y12: Gemeinde
C13: Std./Anz. | G13: Std./Anz. | K13: Std./Anz. | O13: CHF | R13: CHF | U13: CHF | Y13: CHF
A14: LK 11) | K14: =C14-G14 -> 0 | O14: ='1. Quartal'!O14:Q14 -> 9.8 | R14: ='1. Quartal'!R14:T14 -> 8 | U14: =IF(K14>0,K14*O14,0) -> 0 | Y14: =IF(K14>0,K14*R14,0) -> 0
A15: LK 22) | K15: =C15-G15 -> 0 | O15: ='1. Quartal'!O15:Q15 -> 22 | R15: ='1. Quartal'!R15:T15 -> 18 | U15: =IF(K15>0,K15*O15,0) -> 0 | Y15: =IF(K15>0,K15*R15,0) -> 0
A16: Zwischentotal (LK 1) 4. Quartal 2013 | U16: =SUM(U14) -> 0 | Y16: =SUM(Y14) -> 0
A17: Zwischtotal (LK 2) 4. Quartal 2013 | U17: =SUM(U15:X15) -> 0 | Y17: =SUM(Y15:AB15) -> 0
A18: Total Leistungsbeiträge 4. Quartal 2013 | U18: =SUM(U16:X17) -> 0 | Y18: =SUM(Y16:AB17) -> 0
A19: Auszahlung Kantonsbeitrag 4. Quartal 2013 (gerundet) | U19: =U18 -> 0
A20: Anspruch Gemeindebeitrag 4. Quartal 2013 (gerundet) | Y20: =Y18 -> 0
A21: 1) LK 1: Pflegerische Leistungen 2) LK 2: Leistungen der Akut- und Übergangspflege
A23: Folgende Beilagen sind einzureichen: LK 1: Klientenliste LK 2: separate Klientenliste und spitalärztliche Verordnung

Sheet Zusammenfassung
A1: Leistungsbeiträge anerkannte Pflegefachperson | Y1: 2013
A3: Name | F3: ='1. Quartal'!F3 -> Hänny | Q3: Vorname | U3: ='1. Quartal'!U3 -> Elisabeth
A4: Adresse/Strasse Nr. | F4: ='1. Quartal'!F4 -> Camenisch 179 | Q4: PLZ | S4: ='1. Quartal'!S4 -> 7159 | U4: Ort | W4: ='1. Quartal'!W4 -> Andiast
A5: E-Mail Adresse | F5: ='1. Quartal'!F5:AB5 -> haenny@sunrise.ch
A6: Telefon | F6: ='1. Quartal'!F6 -> 081 925 16 42 079 707 12 57 | Q6: Fax | S6: ='1. Quartal'!S6:AB6 -> 0
A7: Bank/IBAN | F7: ='1. Quartal'!F7 -> CH22 0077 4000 1512 4120 0 | Q7: Postcheck | U7: ='1. Quartal'!U7 -> 0
A8: ="Leistungsbeiträge "&Y1 -> Leistungsbeiträge 2013
A9: ="1. Quartal "&Y1 -> 1. Quartal 2013
A10: Kantonsbeitrag | X10: 7694
A11: Gemeindebeitrag | X11: 6540
A12: ="2. Quartal "&Y1 -> 2. Quartal 2013
A13: Kantonsbeitrag | X13: 15274
A14: Gemeindebeitrag | X14: 12740
A15: ="3. Quartal "&Y1 -> 3. Quartal 2013
A16: Kantonsbeitrag | X16: 22854
A17: Gemeindebeitrag | X17: 18940
A18: ="4. Quartal "&Y1 -> 4. Quartal 2013
A19: Kantonsbeitrag | X19: 30434
A20: Gemeindebeitrag | X20: 25140
A21: ="Total Leistungsbeiträge "&Y1 -> Total Leistungsbeiträge 2013
A22: ="Total Kantonsbeiträge "&Y1 -> Total Kantonsbeiträge 2013 | X22: =IF(SUM(X10,X13,X16,X19)<3,0,SUM(X10,X13,X16,X19)) -> 76256
A23: ="Total Gemeindebeiträge "&Y1 -> Total Gemeindebeiträge 2013 | X23: =IF(SUM(X11,X14,X17,X20)<3,0,SUM(X11,X14,X17,X20)) -> 63360
A25: ="Leistungseinheiten LK1 - LK4 " & Y1 -> Leistungseinheiten LK1 - LK4 2013
I26: 1. Quartal | M26: 2. Quartal | Q26: 3. Quartal | U26: 4. Quartal | Y26: TOTAL 2013
I27: Std. | M27: Std. | Q27: Std. | U27: Std. | Y27: Std.
A28: LK 1: Pflegerische Leistungen | I28: ='1. Quartal'!$K$14 -> 453.91 | M28: ='2. Quartal'!$K$14 -> 286.76 | Q28: ='3. Quartal'!$K$14 -> 0 | U28: ='4. Quartal'!$K$14 -> 0 | Y28: =SUM(I28:X28) -> 740.67
A29: LK 2: Akut- und Übergangspflege | I29: ='1. Quartal'!$K$15 -> 0 | M29: ='2. Quartal'!$K$15 -> 0 | Q29: ='3. Quartal'!$K$15 -> 0 | U29: ='4. Quartal'!$K$15 -> 0 | Y29: =SUM(I29:X29) -> 0
A31: ="Leistungsbeiträge "&Y1 -> Leistungsbeiträge 2013
I32: 1. Quartal | M32: 2. Quartal | Q32: 3. Quartal | U32: 4. Quartal | Y32: TOTAL 2013
I33: Fr. | M33: Fr. | Q33: Fr. | U33: Fr. | Y33: Fr.
A34: Kantonsbeitrag | I34: ='1. Quartal'!$U$19 -> 4448.318 | M34: ='2. Quartal'!$U$19 -> 2810.248 | Q34: ='3. Quartal'!$U$19 -> 0 | U34: ='4. Quartal'!$U$19 -> 0 | Y34: =SUM(I34:X34) -> 7258.566
A35: Gemeindebeitrag | I35: ='1. Quartal'!$Y$20 -> 3631.28 | M35: ='2. Quartal'!$Y$20 -> 2294.08 | Q35: ='3. Quartal'!$Y$20 -> 0 | U35: ='4. Quartal'!$Y$20 -> 0 | Y35: =SUM(I35:X35) -> 5925.36
